BEGIN:VCALENDAR
VERSION:2.0
PRODID:-//wp-events-plugin.com//7.2.3.1//EN
TZID:Europe/Berlin
X-WR-TIMEZONE:Europe/Berlin
BEGIN:VEVENT
UID:373@voesfgraz.at
DTSTART;TZID=Europe/Vienna;VALUE=DATE:20260411
DTEND;TZID=Europe/Vienna;VALUE=DATE:20260412
DTSTAMP:20260304T114427Z
URL:https://www.voesfgraz.at/events/wanderung-um-das-schloss-obermureck/
SUMMARY:Wanderung: zum Schloss Obermureck
DESCRIPTION:Wir fahren nach Mureck mit der Bahn. Abfahrt vom Grazer Hauptba
 hnhof ist um 07.05 Uhr. Treffpunkt mit den Kfz-Anreisenden ist um 9 Uhr au
 f dem Parkplatz beim Freibad Mureck.
ATTACH;FMTTYPE=image/jpeg:https://www.voesfgraz.at/wp-content/uploads/2026
 /02/IMG_8622.jpg
CATEGORIES:2026 (DE),veranstaltungen,Wanderung
END:VEVENT
BEGIN:VTIMEZONE
TZID:Europe/Vienna
X-LIC-LOCATION:Europe/Vienna
BEGIN:DAYLIGHT
DTSTART:20260329T030000
TZOFFSETFROM:+0100
TZOFFSETTO:+0200
TZNAME:CEST
END:DAYLIGHT
END:VTIMEZONE
END:VCALENDAR