BEGIN:VCALENDAR
VERSION:2.0
PRODID:-//wp-events-plugin.com//7.2.3.1//EN
TZID:Europe/Berlin
X-WR-TIMEZONE:Europe/Berlin
BEGIN:VEVENT
UID:318@voesfgraz.at
DTSTART;TZID=Europe/Vienna:20250406T100000
DTEND;TZID=Europe/Vienna:20250406T150000
DTSTAMP:20250128T141532Z
URL:https://www.voesfgraz.at/events/wanderung-im-osten-von-gray-viel-neues
 -entdecken/
SUMMARY:Wanderung: Im Osten von Graz
DESCRIPTION:Start beim „Hilmteich“ / Haltestelle Staßenbahnlinie 1. Wi
 r wandern am Menschenrechtsweg im Leechwald bergauf und über den Legenste
 inpark wieder talwärts zur Haltestelle „Waldhof“ und zum Eingang der 
 Rettenbachklamm. Dieses naturbelassene Landschaftsschutzgebiet bietet zahl
 reichen seltenen Pflanzen und Tieren Heimat. Hier ist gutes Schuhwerk und 
 Trittsicherheit gefragt.\nDanach geht es weiter zur Basilika Mariatrost un
 d vorbei an der Gottscheer Kapelle zum Roseggerweg\, welcher uns zurück z
 um Hilmteich führt. Rd. 11 km (hügelig). Einkehrmöglichkeit beim Gasth
 of „Häuserl im Wald“.\nAlternative Wegstrecke (wer Rettenbachklamm ni
 cht gehen mag): Edegger-Weg von Waldhof  nach Mariatrost.
ATTACH;FMTTYPE=image/jpeg:https://www.voesfgraz.at/wp-content/uploads/2025
 /01/images-2.jpeg
CATEGORIES:2025 (DE),veranstaltungen,Wanderung
LOCATION:Häuserl im Wald\, Roseggerweg 105\, Graz\, 8010\, Österreich
X-APPLE-STRUCTURED-LOCATION;VALUE=URI;X-ADDRESS=Roseggerweg 105\, Graz\, 80
 10\, Österreich;X-APPLE-RADIUS=100;X-TITLE=Häuserl im Wald:geo:0,0
END:VEVENT
BEGIN:VTIMEZONE
TZID:Europe/Vienna
X-LIC-LOCATION:Europe/Vienna
BEGIN:DAYLIGHT
DTSTART:20250330T030000
TZOFFSETFROM:+0100
TZOFFSETTO:+0200
TZNAME:CEST
END:DAYLIGHT
END:VTIMEZONE
END:VCALENDAR