BEGIN:VCALENDAR
VERSION:2.0
PRODID:-//wp-events-plugin.com//7.2.3.1//EN
TZID:Europe/Berlin
X-WR-TIMEZONE:Europe/Berlin
BEGIN:VEVENT
UID:315@voesfgraz.at
DTSTART;TZID=Europe/Vienna:20250308T100000
DTEND;TZID=Europe/Vienna:20250308T150000
DTSTAMP:20250128T141443Z
URL:https://www.voesfgraz.at/events/wanderung-genusstour-um-st-ulrich-in-g
 reith-und-ausstellungsbesichtigung-im-greith-haus/
SUMMARY:Wanderung "Natur und Kultur": Genußtour um St. Ulrich in Greith un
 d Ausstellung von Christiane Brettschuh
DESCRIPTION:Wir beginnen das Wanderjahr bereits am 8.3.2025. Am internation
 alen Frauentag haben wir die Möglichkeit\, uns eine Ausstellung unseres M
 itglieds Frau Mag. Christiane Brettschuh im Greith-Haus in St. Ulrich in G
 reith (Südsteiermark) unter der Leitung der Künstlerin anzusehen. Danach
  geht es 13 km auf der Genußtour um St. Ulrich in Greith unter der Führu
 ng unseres Mitglieds Herrn Mag. Gottfried Kölbl. 😊 
ATTACH;FMTTYPE=image/jpeg:https://www.voesfgraz.at/wp-content/uploads/2025
 /01/image.jpg
CATEGORIES:2025 (DE),veranstaltungen,Wanderung
LOCATION:Greith-Haus\, Kopreinigg 90\, St. Ulrich in Greith\, 8544\, Öster
 reich
X-APPLE-STRUCTURED-LOCATION;VALUE=URI;X-ADDRESS=Kopreinigg 90\, St. Ulrich 
 in Greith\, 8544\, Österreich;X-APPLE-RADIUS=100;X-TITLE=Greith-Haus:geo:
 0,0
END:VEVENT
BEGIN:VTIMEZONE
TZID:Europe/Vienna
X-LIC-LOCATION:Europe/Vienna
BEGIN:STANDARD
DTSTART:20241027T020000
TZOFFSETFROM:+0200
TZOFFSETTO:+0100
TZNAME:CET
END:STANDARD
END:VTIMEZONE
END:VCALENDAR