BEGIN:VCALENDAR
VERSION:2.0
PRODID:-//wp-events-plugin.com//7.2.3.1//EN
TZID:Europe/Berlin
X-WR-TIMEZONE:Europe/Berlin
BEGIN:VEVENT
UID:118@voesfgraz.at
DTSTART;TZID=Europe/Vienna:20231026T100000
DTEND;TZID=Europe/Vienna:20231026T170000
DTSTAMP:20250307T092217Z
URL:https://www.voesfgraz.at/events/wandertag-fuer-vereinsmitglieder-weing
 aerten-bei-leibnitz-huegelig-12-km/
SUMMARY:Wandertag für Vereinsmitglieder: Weingärten bei Leibnitz (hügel
 ig\, 12 km)
DESCRIPTION:Vom Bahnhof gehen wir zur Weinkellerei beim Schloß Seggau und 
 besichtigen auch die Michaels-\nkapelle mit dem Kunstwerk von Gerald Brett
 schuh. Danach wandern wir am Sulmsee vorbei zur\nWeinbauschule Silberberg.
CATEGORIES:2023 (DE),Wanderung
END:VEVENT
BEGIN:VTIMEZONE
TZID:Europe/Vienna
X-LIC-LOCATION:Europe/Vienna
BEGIN:DAYLIGHT
DTSTART:20230326T030000
TZOFFSETFROM:+0100
TZOFFSETTO:+0200
TZNAME:CEST
END:DAYLIGHT
END:VTIMEZONE
END:VCALENDAR