BEGIN:VCALENDAR
VERSION:2.0
PRODID:-//wp-events-plugin.com//7.2.3.1//EN
TZID:Europe/Berlin
X-WR-TIMEZONE:Europe/Berlin
BEGIN:VEVENT
UID:173@voesfgraz.at
DTSTART;TZID=Europe/Vienna:20230315T160000
DTEND;TZID=Europe/Vienna:20230318T180000
DTSTAMP:20230311T201252Z
URL:https://www.voesfgraz.at/events/sonderausstellung-zum-tag-der-druckkun
 st-rueckblick-und-gegenwart/
SUMMARY:Sonderausstellung zum Tag der Druckkunst – Rückblick und Gegenwa
 rt
DESCRIPTION:Unser Mitglied Frau Barbara Hammer stellt Holzschnitte aus der 
 Serie SÜDBAHN (2022) aus\, Josef Fürpaß Druckwerke der Meisterschule un
 d einige Ausgaben der Zürcher Zeitschrift SPEKTRUM aus den Jahren 1978-19
 92. Herzlich eingeladen!
CATEGORIES:Ausstellungen
LOCATION:kunstGarten\, Payer-Weyprecht-Strasse 27\, Graz\, 8020\, Österrei
 ch
GEO:47.051791;15.422187
X-APPLE-STRUCTURED-LOCATION;VALUE=URI;X-ADDRESS=Payer-Weyprecht-Strasse 27\
 , Graz\, 8020\, Österreich;X-APPLE-RADIUS=100;X-TITLE=kunstGarten:geo:47.
 051791,15.422187
END:VEVENT
BEGIN:VTIMEZONE
TZID:Europe/Vienna
X-LIC-LOCATION:Europe/Vienna
BEGIN:STANDARD
DTSTART:20221030T020000
TZOFFSETFROM:+0200
TZOFFSETTO:+0100
TZNAME:CET
END:STANDARD
END:VTIMEZONE
END:VCALENDAR