BEGIN:VCALENDAR
VERSION:2.0
PRODID:-//wp-events-plugin.com//7.2.3.1//EN
TZID:Europe/Berlin
X-WR-TIMEZONE:Europe/Berlin
BEGIN:VEVENT
UID:299@voesfgraz.at
DTSTART;TZID=Europe/Vienna:20241108T173000
DTEND;TZID=Europe/Vienna:20241108T213000
DTSTAMP:20250307T070548Z
URL:https://www.voesfgraz.at/events/slowenischer-abend-slovenski-vecer/
SUMMARY:Slowenischer Abend / Slovenski večer
DESCRIPTION:Am 8. November 2024 findet wieder unsere wichtigste Veranstaltu
 ng des Vereinsjahres statt – unser Slowenischer Abend. Auch in diesem Ja
 hr treffen wir uns im Pfarrsaal St. Veit in Graz.\n\nHeuer ist unser Gast 
 Univ.-Prof. Dr. Marin Berovič aus Ljubljana. Er wird den Abend mit seinen
  zahlreichen Begabungen\, Kenntnissen und Fähigkeiten ausfüllen\, denn H
 err Berovič war Universitätsprofessor für Biochemie und Bioverfahrenste
 chnik\, ist ein anerkannter Maler\, hat auch Restaurationstechnik auf der 
 Kunstakademie unterrichtet und ist ein hervorragender Weinkenner und Weinj
 uror bei internationalen Weinbewertungen.
ATTACH;FMTTYPE=image/jpeg:https://www.voesfgraz.at/wp-content/uploads/2024
 /08/GRAZ-PLAKAT-MB-FINAL-2024-1.jpg
CATEGORIES:2024 (DE)
LOCATION:https://maps.app.goo.gl/EKGiEa1Yp2cfUH8J8
END:VEVENT
BEGIN:VTIMEZONE
TZID:Europe/Vienna
X-LIC-LOCATION:Europe/Vienna
BEGIN:STANDARD
DTSTART:20241027T020000
TZOFFSETFROM:+0200
TZOFFSETTO:+0100
TZNAME:CET
END:STANDARD
END:VTIMEZONE
END:VCALENDAR