BEGIN:VCALENDAR
VERSION:2.0
PRODID:-//wp-events-plugin.com//7.2.3.1//EN
TZID:Europe/Berlin
X-WR-TIMEZONE:Europe/Berlin
BEGIN:VEVENT
UID:300@voesfgraz.at
DTSTART;TZID=Europe/Vienna:20241108T173000
DTEND;TZID=Europe/Vienna:20241108T213000
DTSTAMP:20250127T004556Z
URL:https://www.voesfgraz.at/events/slovenski-vecer-slowenischer-abend/
SUMMARY:Slovenski večer / Slowenischer Abend
DESCRIPTION:8. novembra 2024 bo ponovno potekal najpomembnejši dogodek na
 šega društvenega leta - Slovenski večer. Tudi letos se bomo srečali v 
 župnijski dvorani Sv. Vida /St. Veit/ v Gradcu.\n\nNaš letošnji gost bo
  univ. prof. dr Marin Berovič iz Ljubljane. Večer bo zapolnil s svojimi 
 številnimi talenti\, znanji in veščinami\, saj je bil gospod Berovič u
 niverzitetni profesor biokemije in bioprocesnega inženirstva\, je priznan
  akademski slikar\, na Akademiji za likovno umetnost je predaval tudi rest
 avratorsko tehnologijo\, je odličen poznavalec vin in gastronom\, saj kot
  mednarodni ocenjevalec sodeluje in predseduje na številnih vinskih tekmo
 vanjih po svetu.
ATTACH;FMTTYPE=image/jpeg:https://www.voesfgraz.at/wp-content/uploads/2024
 /08/GRAZ-PLAKAT-MB-FINAL-2024-pdf.jpg
CATEGORIES:2024 (SI),Slovenski večer
LOCATION:https://maps.app.goo.gl/EKGiEa1Yp2cfUH8J8
END:VEVENT
BEGIN:VTIMEZONE
TZID:Europe/Vienna
X-LIC-LOCATION:Europe/Vienna
BEGIN:STANDARD
DTSTART:20241027T020000
TZOFFSETFROM:+0200
TZOFFSETTO:+0100
TZNAME:CET
END:STANDARD
END:VTIMEZONE
END:VCALENDAR