BEGIN:VCALENDAR
VERSION:2.0
PRODID:-//wp-events-plugin.com//7.2.3.1//EN
TZID:Europe/Berlin
X-WR-TIMEZONE:Europe/Berlin
BEGIN:VEVENT
UID:254@voesfgraz.at
DTSTART;TZID=Europe/Vienna:20230901T210000
DTEND;TZID=Europe/Vienna:20230901T214500
DTSTAMP:20230829T150449Z
URL:https://www.voesfgraz.at/events/slovenski-film-orkester-2021/
SUMMARY:Slovenski film Orkester (2021)
DESCRIPTION:V sklopu poletnih filmskih večerov v Leslie Open v Joanneumvie
 rtlu v Gradcu si bomo lahko na topel (upajmo) in lep poletni večer spet o
 gledali novejši slovenski film (2021\, z nemškimi podnapisi). Vstop pros
 t! Vabljeni! S prijazno podporo: SKICA & GUSTAV Film.
CATEGORIES:Glasba
LOCATION:Leslie Open\, Joanneumviertel\, Graz\, Österreich
GEO:47.068386;15.437994
X-APPLE-STRUCTURED-LOCATION;VALUE=URI;X-ADDRESS=Joanneumviertel\, Graz\, Ö
 sterreich;X-APPLE-RADIUS=100;X-TITLE=Leslie Open:geo:47.068386,15.437994
END:VEVENT
BEGIN:VTIMEZONE
TZID:Europe/Vienna
X-LIC-LOCATION:Europe/Vienna
BEGIN:DAYLIGHT
DTSTART:20230326T030000
TZOFFSETFROM:+0100
TZOFFSETTO:+0200
TZNAME:CEST
END:DAYLIGHT
END:VTIMEZONE
END:VCALENDAR