BEGIN:VCALENDAR
VERSION:2.0
PRODID:-//wp-events-plugin.com//7.2.3.1//EN
TZID:Europe/Berlin
X-WR-TIMEZONE:Europe/Berlin
BEGIN:VEVENT
UID:266@voesfgraz.at
DTSTART;TZID=Europe/Vienna:20231218T183000
DTEND;TZID=Europe/Vienna:20231218T200000
DTSTAMP:20250127T010451Z
URL:https://www.voesfgraz.at/events/simon-oslak-slowenisches-graz/
SUMMARY:Simon Ošlak: Slovenski Gradec / Slowenisches Graz
DESCRIPTION:Das zweisprachige Buch Slovenski Gradec / Slowenisches Graz bes
 chreibt die Geschichte der Stadt aus dem Blickwinkel der slowenischen Kult
 ur und ihren Einfluss auf die historische Entwicklung der Murmetropole.
CATEGORIES:2023 (DE),Lesung und Gespräch
LOCATION:Slowenischer Lesesaal\, Kalchberggasse 2\, Graz\, 8010\, Österrei
 ch
GEO:47.068331;15.438519
X-APPLE-STRUCTURED-LOCATION;VALUE=URI;X-ADDRESS=Kalchberggasse 2\, Graz\, 8
 010\, Österreich;X-APPLE-RADIUS=100;X-TITLE=Slowenischer Lesesaal:geo:47.
 068331,15.438519
END:VEVENT
BEGIN:VTIMEZONE
TZID:Europe/Vienna
X-LIC-LOCATION:Europe/Vienna
BEGIN:STANDARD
DTSTART:20231029T020000
TZOFFSETFROM:+0200
TZOFFSETTO:+0100
TZNAME:CET
END:STANDARD
END:VTIMEZONE
END:VCALENDAR