BEGIN:VCALENDAR
VERSION:2.0
PRODID:-//wp-events-plugin.com//7.2.3.1//EN
TZID:Europe/Berlin
X-WR-TIMEZONE:Europe/Berlin
BEGIN:VEVENT
UID:304@voesfgraz.at
DTSTART;TZID=Europe/Vienna:20241213T190000
DTEND;TZID=Europe/Vienna:20241213T220000
DTSTAMP:20250127T001819Z
URL:https://www.voesfgraz.at/events/predbozicni-koncert-jana-severja/
SUMMARY:Predbožični koncert Jana Severja
DESCRIPTION:Vabimo vas na predbožični koncert klavirskih improvizacij slo
 venskega pianista Jana Severja iz Ljubljane\, ki bo v petek\, 13. decembra
  2024 ob 19 h v majhnem\, a tradicionalnem graškem glasbenem salonu Kultu
 rsalon Graz - v hiši s poslikano fasado na Gosposki ulici 3 (Herrengasse 
 3\, 8010 Graz). S koncertom bomo združili naše letošnje predbožično s
 rečanje in po njem nazdravili na uspešno preteklo društveno leto ter si
  zaželeli vse dobro tudi v novem. Vstopnice za člane društva ASP stanej
 o 12\,00 evrov. 
ATTACH;FMTTYPE=image/jpeg:https://www.voesfgraz.at/wp-content/uploads/2024
 /10/JAN-SEVER-_-KULTURSALON-GRAZ-_-ONLINE-BANNER-_-2024.jpg
CATEGORIES:2024 (SI),Glasba
LOCATION:https://maps.app.goo.gl/UYrRJQEsVXqK3gu47
END:VEVENT
BEGIN:VTIMEZONE
TZID:Europe/Vienna
X-LIC-LOCATION:Europe/Vienna
BEGIN:STANDARD
DTSTART:20241027T020000
TZOFFSETFROM:+0200
TZOFFSETTO:+0100
TZNAME:CET
END:STANDARD
END:VTIMEZONE
END:VCALENDAR