BEGIN:VCALENDAR
VERSION:2.0
PRODID:-//wp-events-plugin.com//7.2.3.1//EN
TZID:Europe/Berlin
X-WR-TIMEZONE:Europe/Berlin
BEGIN:VEVENT
UID:323@voesfgraz.at
DTSTART;TZID=Europe/Vienna:20250615T090000
DTEND;TZID=Europe/Vienna:20250615T180000
DTSTAMP:20250128T141743Z
URL:https://www.voesfgraz.at/events/pohod-skozi-sotesko-raabklamm/
SUMMARY:Pohod skozi sotesko Raabklamm
DESCRIPTION:Vintgar Kleine Raabklamm ima ponekod obliko prave soteske in so
 di med najdaljše vintgarje v Avstriji. Raba je v tem delu ena zadnjih rek
  v Avstriji\, ki tečejo po svojem naravno ohranjenem svetu\, zato je zelo
  priljubljen naravni biser in izletniški cilj\, zlasti za družine z otro
 ki\, tekače in starejše.
ATTACH;FMTTYPE=image/jpeg:https://www.voesfgraz.at/wp-content/uploads/2025
 /01/Unknown-1.jpeg
CATEGORIES:2025 (SI),Pohod,prihodnje-prireditve
END:VEVENT
BEGIN:VTIMEZONE
TZID:Europe/Vienna
X-LIC-LOCATION:Europe/Vienna
BEGIN:DAYLIGHT
DTSTART:20250330T030000
TZOFFSETFROM:+0100
TZOFFSETTO:+0200
TZNAME:CEST
END:DAYLIGHT
END:VTIMEZONE
END:VCALENDAR