BEGIN:VCALENDAR
VERSION:2.0
PRODID:-//wp-events-plugin.com//7.2.3.1//EN
TZID:Europe/Berlin
X-WR-TIMEZONE:Europe/Berlin
BEGIN:VEVENT
UID:376@voesfgraz.at
DTSTART;TZID=Europe/Vienna;VALUE=DATE:20260530
DTEND;TZID=Europe/Vienna;VALUE=DATE:20260531
DTSTAMP:20260331T185140Z
URL:https://www.voesfgraz.at/events/pohod-muzej-na-prostem-stuebing/
SUMMARY:Pohod: muzej na prostem Stübing
DESCRIPTION:Muzej na prostem Stübing sodi z več kot 100 eksponati med naj
 pomembnejše muzeje na prostem v Evropi. Posveča se ohranjanju\, raziskov
 anju in posredovanju zgodovine kmečke kulture na celotnem ozemlju Avstrij
 e.
ATTACH;FMTTYPE=image/jpeg:https://www.voesfgraz.at/wp-content/uploads/2026
 /02/Unknown.jpeg
CATEGORIES:2026 (SI),Pohod,prihodnje-prireditve
LOCATION:Österreichisches Freilichtmuseum Stübing\, Enzenbach 32\, Stübi
 ng\, 8114\, Österreich
X-APPLE-STRUCTURED-LOCATION;VALUE=URI;X-ADDRESS=Enzenbach 32\, Stübing\, 8
 114\, Österreich;X-APPLE-RADIUS=100;X-TITLE=Österreichisches Freilichtmu
 seum Stübing:geo:0,0
END:VEVENT
BEGIN:VTIMEZONE
TZID:Europe/Vienna
X-LIC-LOCATION:Europe/Vienna
BEGIN:DAYLIGHT
DTSTART:20260329T030000
TZOFFSETFROM:+0100
TZOFFSETTO:+0200
TZNAME:CEST
END:DAYLIGHT
END:VTIMEZONE
END:VCALENDAR