BEGIN:VCALENDAR
VERSION:2.0
PRODID:-//wp-events-plugin.com//7.2.3.1//EN
TZID:Europe/Berlin
X-WR-TIMEZONE:Europe/Berlin
BEGIN:VEVENT
UID:326@voesfgraz.at
DTSTART;TZID=Europe/Vienna:20251004T090000
DTEND;TZID=Europe/Vienna:20251004T183000
DTSTAMP:20251004T160530Z
URL:https://www.voesfgraz.at/events/pohod-do-medvedje-domacije-na-vinski-c
 esti/
SUMMARY:Pohod do medvedje domačije Golob ob vinski cesti
DESCRIPTION:V vasi Belič/Wielitsch na slovensko-štajerski meji leži sred
 i vinogradov domačija Golob. Tam živi do ducat rjavih medvedov iz Evrope
  in Azije\, ki so na kmetiji Bärenhof našli dostojen dom. Obiskovalci me
 dvedjega živalskega vrta lahko opazujejo\, kako medvedi spijo\, jedo in p
 lezajo\, ter se seznanijo z zanimivimi dejstvi o medvedih in tem posebnem 
 projektu za dobrobit živali. Na terasi pri kamniti hiši lahko uživate o
 b domačih sadnih sokovih ali kozarcu vina\, prigrizkih in pecivu.
ATTACH;FMTTYPE=image/jpeg:https://www.voesfgraz.at/wp-content/uploads/2025
 /01/Unknown-2.jpeg
CATEGORIES:2025 (SI),Pohod,prihodnje-prireditve
END:VEVENT
BEGIN:VTIMEZONE
TZID:Europe/Vienna
X-LIC-LOCATION:Europe/Vienna
BEGIN:DAYLIGHT
DTSTART:20250330T030000
TZOFFSETFROM:+0100
TZOFFSETTO:+0200
TZNAME:CEST
END:DAYLIGHT
END:VTIMEZONE
END:VCALENDAR