BEGIN:VCALENDAR
VERSION:2.0
PRODID:-//wp-events-plugin.com//7.2.3.1//EN
TZID:Europe/Berlin
X-WR-TIMEZONE:Europe/Berlin
BEGIN:VEVENT
UID:374@voesfgraz.at
DTSTART;TZID=Europe/Vienna;VALUE=DATE:20260411
DTEND;TZID=Europe/Vienna;VALUE=DATE:20260412
DTSTAMP:20260304T114858Z
URL:https://www.voesfgraz.at/events/pohod-do-gradu-cmurek-in-ogled-muzeja-
 norosti/
SUMMARY:Pohod do gradu Cmurek in ogled Muzeja norosti
DESCRIPTION:V Mureck se lahko odpravimo z vlakom iz Gradca. Odhod z glavne 
 železniške postaje v Gradcu je ob 7.05. S tistimi\, ki bodo prišli z av
 tomobili\, se dobimo ob 9. uri na parkirišču pri kopališču Mureck.
ATTACH;FMTTYPE=image/jpeg:https://www.voesfgraz.at/wp-content/uploads/2026
 /02/IMG_8622.jpg
CATEGORIES:2026 (SI),Pohod,prihodnje-prireditve
END:VEVENT
BEGIN:VTIMEZONE
TZID:Europe/Vienna
X-LIC-LOCATION:Europe/Vienna
BEGIN:DAYLIGHT
DTSTART:20260329T030000
TZOFFSETFROM:+0100
TZOFFSETTO:+0200
TZNAME:CEST
END:DAYLIGHT
END:VTIMEZONE
END:VCALENDAR