BEGIN:VCALENDAR
VERSION:2.0
PRODID:-//wp-events-plugin.com//7.2.3.1//EN
TZID:Europe/Berlin
X-WR-TIMEZONE:Europe/Berlin
BEGIN:VEVENT
UID:217@voesfgraz.at
DTSTART;TZID=Europe/Vienna:20230315T190000
DTEND;TZID=Europe/Vienna:20230315T190000
DTSTAMP:20230312T142311Z
URL:https://www.voesfgraz.at/events/novi-knjigi-irene-diwiak-in-ane-marwan
 /
SUMMARY:Novi knjigi Irene Diwiak in Ane Marwan
DESCRIPTION:Irene Diwiak bere iz knjige „Sag Alex\, er soll nicht auf mic
 h warten“. Ana Marwan bere iz knjige Zabubljena (v nemškem prevodu Verp
 uppt). Pogovor vodi Elisabeth Loibner.
ATTACH;FMTTYPE=image/jpeg:https://www.voesfgraz.at/wp-content/uploads/2023
 /03/Ana_Marwan-scaled.jpg
CATEGORIES:Literarni večer
LOCATION:literatur h aus graz\, Elisabethstrasse 30\, Graz\, 8010\, Österr
 eich
GEO:47.074746;15.451441
X-APPLE-STRUCTURED-LOCATION;VALUE=URI;X-ADDRESS=Elisabethstrasse 30\, Graz\
 , 8010\, Österreich;X-APPLE-RADIUS=100;X-TITLE=literatur h aus graz:geo:4
 7.074746,15.451441
END:VEVENT
BEGIN:VTIMEZONE
TZID:Europe/Vienna
X-LIC-LOCATION:Europe/Vienna
BEGIN:STANDARD
DTSTART:20221030T020000
TZOFFSETFROM:+0200
TZOFFSETTO:+0100
TZNAME:CET
END:STANDARD
END:VTIMEZONE
END:VCALENDAR