BEGIN:VCALENDAR
VERSION:2.0
PRODID:-//wp-events-plugin.com//7.2.3.1//EN
TZID:Europe/Berlin
X-WR-TIMEZONE:Europe/Berlin
BEGIN:VEVENT
UID:371@voesfgraz.at
DTSTART;TZID=Europe/Vienna:20260320T170000
DTEND;TZID=Europe/Vienna:20260320T200000
DTSTAMP:20260219T121024Z
URL:https://www.voesfgraz.at/events/mitgliederversammlung/
SUMMARY:Mitgliederversammlung
DESCRIPTION:Liebe Mitglieder des VÖSFG\,\n\nder Vorstand lädt euch zur Mi
 tgliederversammlung mit Vorstandswahlen für die nächste dreijährige Fun
 ktionsperiode am Freitag\, den 20. März 2026\, um 17 Uhr im Restaurant Wi
 ldmoser\, Grüne Gase 17\, 8020 Graz herzlichst ein. Wir freuen uns auf ei
 n gemütliches Beisammensein nach der Versammlung.
ATTACH;FMTTYPE=image/jpeg:https://www.voesfgraz.at/wp-content/uploads/2026
 /02/osf_logo_color_final-e1771502023844.jpg
CATEGORIES:2026 (DE),Generalversammlung,veranstaltungen
LOCATION:Wirtshaus Wildmoser\, Grüne Gasse 17\, Graz\, Steiermark\, 8020\,
  Österreich
GEO:47.079972;15.426876
X-APPLE-STRUCTURED-LOCATION;VALUE=URI;X-ADDRESS=Grüne Gasse 17\, Graz\, St
 eiermark\, 8020\, Österreich;X-APPLE-RADIUS=100;X-TITLE=Wirtshaus Wildmos
 er:geo:47.079972,15.426876
END:VEVENT
BEGIN:VTIMEZONE
TZID:Europe/Vienna
X-LIC-LOCATION:Europe/Vienna
BEGIN:STANDARD
DTSTART:20251026T020000
TZOFFSETFROM:+0200
TZOFFSETTO:+0100
TZNAME:CET
END:STANDARD
END:VTIMEZONE
END:VCALENDAR