BEGIN:VCALENDAR
VERSION:2.0
PRODID:-//wp-events-plugin.com//7.2.3.1//EN
TZID:Europe/Berlin
X-WR-TIMEZONE:Europe/Berlin
BEGIN:VEVENT
UID:306@voesfgraz.at
DTSTART;TZID=Europe/Vienna:20241219T183000
DTEND;TZID=Europe/Vienna:20241219T200000
DTSTAMP:20250307T070801Z
URL:https://www.voesfgraz.at/events/marin-berovic-vortrag-ueber-heilpilze-
 und-die-verwendung-ihrer-wirkstoffe/
SUMMARY:Marin Berovič\, Andrej Gregori: Vortrag über Heilpilze und die Ve
 rwendung ihrer Wirkstoffe
DESCRIPTION:Seit Jahrtausenden heilt und stärkt sich die Menschheit mit na
 türlichen Heilmitteln und Wirkstoffen. Dazu gehören auch Heilpilze oder 
 Vitalpilze\, die in China seit mehr als 2000 Jahren verwendet werden und i
 n den späten 1980er Jahren auch in Europa bekannt wurden. Heute werden si
 e als Nahrungsergänzungsmittel verwendet\, können aber auch zur Vorbeugu
 ng und Behandlung verschiedener chronischer Krankheiten eingesetzt werden.
 \n
ATTACH;FMTTYPE=image/jpeg:https://www.voesfgraz.at/wp-content/uploads/2024
 /11/Heilpilze-und-die-Verwendung-ihrer-Wirkstoffe-e1732108134766.png
CATEGORIES:2024 (DE)
LOCATION:Slowenischer Lesesaal\, Kalchberggasse 2\, Graz\, 8010\, Österrei
 ch
GEO:47.068331;15.438519
X-APPLE-STRUCTURED-LOCATION;VALUE=URI;X-ADDRESS=Kalchberggasse 2\, Graz\, 8
 010\, Österreich;X-APPLE-RADIUS=100;X-TITLE=Slowenischer Lesesaal:geo:47.
 068331,15.438519
END:VEVENT
BEGIN:VTIMEZONE
TZID:Europe/Vienna
X-LIC-LOCATION:Europe/Vienna
BEGIN:STANDARD
DTSTART:20241027T020000
TZOFFSETFROM:+0200
TZOFFSETTO:+0100
TZNAME:CET
END:STANDARD
END:VTIMEZONE
END:VCALENDAR