BEGIN:VCALENDAR
VERSION:2.0
PRODID:-//wp-events-plugin.com//7.2.3.1//EN
TZID:Europe/Berlin
X-WR-TIMEZONE:Europe/Berlin
BEGIN:VEVENT
UID:302@voesfgraz.at
DTSTART;TZID=Europe/Vienna:20241029T183000
DTEND;TZID=Europe/Vienna:20241029T200000
DTSTAMP:20250127T004817Z
URL:https://www.voesfgraz.at/events/literrani-vecer-z-miriam-drev-in-bostj
 anom-naratom/
SUMMARY:Literarni večer z Miriam Drev in Boštjanom Naratom
DESCRIPTION:Pisateljica\, pesnica in prevajalka Miriam Drev ter glasbenik\,
  filozof in pisatelj Boštjan Narat bosta v sodelovanju z marburško zalo
 žbo Pivec in Lichtungen v okviru Slovenske čitalnice predstavila svoja a
 ktualna dela.
ATTACH;FMTTYPE=image/jpeg:https://www.voesfgraz.at/wp-content/uploads/2024
 /10/Unknown-3.jpeg
CATEGORIES:2024 (SI),Literarni večer
LOCATION:https://maps.app.goo.gl/cDKMM9QdUBpgNUqMA
END:VEVENT
BEGIN:VTIMEZONE
TZID:Europe/Vienna
X-LIC-LOCATION:Europe/Vienna
BEGIN:STANDARD
DTSTART:20241027T020000
TZOFFSETFROM:+0200
TZOFFSETTO:+0100
TZNAME:CET
END:STANDARD
END:VTIMEZONE
END:VCALENDAR