BEGIN:VCALENDAR
VERSION:2.0
PRODID:-//wp-events-plugin.com//7.2.3.1//EN
TZID:Europe/Berlin
X-WR-TIMEZONE:Europe/Berlin
BEGIN:VEVENT
UID:256@voesfgraz.at
DTSTART;TZID=Europe/Vienna:20231005T183000
DTEND;TZID=Europe/Vienna:20231005T200000
DTSTAMP:20231001T102042Z
URL:https://www.voesfgraz.at/events/literarni-vecer-z-evo-markun/
SUMMARY:Literarni večer z Evo Markun
DESCRIPTION:Mlada slovenska avtorica Eva Markun je bila za zbirko kratkih z
 godb Menažerija nagrajena na festivalu kratkih zgodb Novo mesto short 201
 8 in na Ljubljanskem knjižnem sejmu za prvenec leta. Knjigo lahko zdaj be
 remo tudi v nemščini v odličnem prevodu Jensa Sakelška (založba Mali 
 Verlag).
CATEGORIES:Literarni večer
LOCATION:Slowenischer Lesesaal\, Kalchberggasse 2\, Graz\, 8010\, Österrei
 ch
GEO:47.068331;15.438519
X-APPLE-STRUCTURED-LOCATION;VALUE=URI;X-ADDRESS=Kalchberggasse 2\, Graz\, 8
 010\, Österreich;X-APPLE-RADIUS=100;X-TITLE=Slowenischer Lesesaal:geo:47.
 068331,15.438519
END:VEVENT
BEGIN:VTIMEZONE
TZID:Europe/Vienna
X-LIC-LOCATION:Europe/Vienna
BEGIN:DAYLIGHT
DTSTART:20230326T030000
TZOFFSETFROM:+0100
TZOFFSETTO:+0200
TZNAME:CEST
END:DAYLIGHT
END:VTIMEZONE
END:VCALENDAR