BEGIN:VCALENDAR
VERSION:2.0
PRODID:-//wp-events-plugin.com//7.2.3.1//EN
TZID:Europe/Berlin
X-WR-TIMEZONE:Europe/Berlin
BEGIN:VEVENT
UID:296@voesfgraz.at
DTSTART;TZID=Europe/Vienna:20240924T183000
DTEND;TZID=Europe/Vienna:20240924T200000
DTSTAMP:20250307T070001Z
URL:https://www.voesfgraz.at/events/literarni-vecer-v-slovenski-citalnici-
 z-levom-detelo/
SUMMARY:Literarni večer v Slovenski čitalnici z Levom Detelo
DESCRIPTION:Lev Detela\, roj. 1939 v Mariboru\, piše prozo\, liriko in ese
 je v slovenščini in nemščini. Otroštvo je prebival v Mariboru\, Sredi
 šču ob Dravi in Ljubljani. Od leta 1960 dalje živi in dela v Avstriji. 
 Je avtor številnih knjig in je prejel več nagrad. Od leta 1979 dalje je 
 urednik dunajske literarne revije LOG. Leta 2023 je v Pavlovi hiši izšla
  trojezična zbirka pesmi Črna mačka / Die schwarze Katze / The Black Ca
 t.
ATTACH;FMTTYPE=image/jpeg:https://www.voesfgraz.at/wp-content/uploads/2024
 /08/Lev-Detela-e1723113894179.jpg
CATEGORIES:2024 (SI)
LOCATION:Slowenischer Lesesaal\, Kalchberggasse 2\, Graz\, 8010\, Österrei
 ch
GEO:47.068331;15.438519
X-APPLE-STRUCTURED-LOCATION;VALUE=URI;X-ADDRESS=Kalchberggasse 2\, Graz\, 8
 010\, Österreich;X-APPLE-RADIUS=100;X-TITLE=Slowenischer Lesesaal:geo:47.
 068331,15.438519
END:VEVENT
BEGIN:VTIMEZONE
TZID:Europe/Vienna
X-LIC-LOCATION:Europe/Vienna
BEGIN:DAYLIGHT
DTSTART:20240331T030000
TZOFFSETFROM:+0100
TZOFFSETTO:+0200
TZNAME:CEST
END:DAYLIGHT
END:VTIMEZONE
END:VCALENDAR