BEGIN:VCALENDAR
VERSION:2.0
PRODID:-//wp-events-plugin.com//7.2.3.1//EN
TZID:Europe/Berlin
X-WR-TIMEZONE:Europe/Berlin
BEGIN:VEVENT
UID:372@voesfgraz.at
DTSTART;TZID=Europe/Vienna:20260320T170000
DTEND;TZID=Europe/Vienna:20260320T200000
DTSTAMP:20260219T121140Z
URL:https://www.voesfgraz.at/events/letni-obcni-zbor-drustva-aspg/
SUMMARY:Letni občni zbor društva ASPG
DESCRIPTION:Dragi člani in drage članice društva\,\n\nupravni odbor dru
 štva vas vabi na redni letni občni zbor z volitvami članov upravnega od
 bora za naslednje triletno funkcijsko obdobje\, ki bo potekal v restavraci
 ji Wildmoser v Gradcu\, Grüne Gasse 17. Veselimo se druženja z vami po z
 aključku občnega zbora. 
ATTACH;FMTTYPE=image/jpeg:https://www.voesfgraz.at/wp-content/uploads/2026
 /02/osf_logo_color_final-e1771502023844.jpg
CATEGORIES:2026 (SI),Občni zbor,prihodnje-prireditve
LOCATION:Wirtshaus Wildmoser\, Grüne Gasse 17\, Graz\, Steiermark\, 8020\,
  Österreich
GEO:47.079972;15.426876
X-APPLE-STRUCTURED-LOCATION;VALUE=URI;X-ADDRESS=Grüne Gasse 17\, Graz\, St
 eiermark\, 8020\, Österreich;X-APPLE-RADIUS=100;X-TITLE=Wirtshaus Wildmos
 er:geo:47.079972,15.426876
END:VEVENT
BEGIN:VTIMEZONE
TZID:Europe/Vienna
X-LIC-LOCATION:Europe/Vienna
BEGIN:STANDARD
DTSTART:20251026T020000
TZOFFSETFROM:+0200
TZOFFSETTO:+0100
TZNAME:CET
END:STANDARD
END:VTIMEZONE
END:VCALENDAR