BEGIN:VCALENDAR
VERSION:2.0
PRODID:-//wp-events-plugin.com//7.2.3.1//EN
TZID:Europe/Berlin
X-WR-TIMEZONE:Europe/Berlin
BEGIN:VEVENT
UID:301@voesfgraz.at
DTSTART;TZID=Europe/Vienna:20241029T183000
DTEND;TZID=Europe/Vienna:20241029T200000
DTSTAMP:20250127T004828Z
URL:https://www.voesfgraz.at/events/lesung-miriam-drev-bostjan-narat/
SUMMARY:Lesung: Miriam Drev & Boštjan Narat
DESCRIPTION:In Kooperation mit dem Marburger Verlag Pivec und den Lichtunge
 n werden im Rahmen des Slowenischen Lesesaales die Schriftstellerin\, Lyri
 kerin und Übersetzerin Miriam Drev und der Musiker\, Philosoph und Schrif
 tsteller Boštjan Narat mit ihren aktuellen Werken vorgestellt.
ATTACH;FMTTYPE=image/jpeg:https://www.voesfgraz.at/wp-content/uploads/2024
 /10/Unknown-3.jpeg
CATEGORIES:2024 (DE),Lesung und Gespräch
LOCATION:https://maps.app.goo.gl/cDKMM9QdUBpgNUqMA
END:VEVENT
BEGIN:VTIMEZONE
TZID:Europe/Vienna
X-LIC-LOCATION:Europe/Vienna
BEGIN:STANDARD
DTSTART:20241027T020000
TZOFFSETFROM:+0200
TZOFFSETTO:+0100
TZNAME:CET
END:STANDARD
END:VTIMEZONE
END:VCALENDAR