BEGIN:VCALENDAR
VERSION:2.0
PRODID:-//wp-events-plugin.com//7.2.3.1//EN
TZID:Europe/Berlin
X-WR-TIMEZONE:Europe/Berlin
BEGIN:VEVENT
UID:255@voesfgraz.at
DTSTART;TZID=Europe/Vienna:20231005T183000
DTEND;TZID=Europe/Vienna:20231005T200000
DTSTAMP:20231001T102214Z
URL:https://www.voesfgraz.at/events/leseabend-mit-eva-markun/
SUMMARY:Lesung mit Eva Markun
DESCRIPTION:Die junge slowenische Autorin Eva Merkun wurde für ihre Kurzge
 schichtensammlung "Menagerie" beim Kurzgeschichtenfestival novo mesto shor
 t 2018 und auf der Buchmesse Ljubljana im selben Jahr ausgezeichnet. Nun k
 önnen wir das Buch auch in ausgezeichneter Übersetzung von Jens Sakelše
 k auf Deutsch lesen (erschienen im Mali Verlag).
CATEGORIES:Lesung und Gespräch
LOCATION:Slowenischer Lesesaal\, Kalchberggasse 2\, Graz\, 8010\, Österrei
 ch
GEO:47.068331;15.438519
X-APPLE-STRUCTURED-LOCATION;VALUE=URI;X-ADDRESS=Kalchberggasse 2\, Graz\, 8
 010\, Österreich;X-APPLE-RADIUS=100;X-TITLE=Slowenischer Lesesaal:geo:47.
 068331,15.438519
END:VEVENT
BEGIN:VTIMEZONE
TZID:Europe/Vienna
X-LIC-LOCATION:Europe/Vienna
BEGIN:DAYLIGHT
DTSTART:20230326T030000
TZOFFSETFROM:+0100
TZOFFSETTO:+0200
TZNAME:CEST
END:DAYLIGHT
END:VTIMEZONE
END:VCALENDAR