BEGIN:VCALENDAR
VERSION:2.0
PRODID:-//wp-events-plugin.com//7.2.3.1//EN
TZID:Europe/Berlin
X-WR-TIMEZONE:Europe/Berlin
BEGIN:VEVENT
UID:317@voesfgraz.at
DTSTART;TZID=Europe/Vienna;VALUE=DATE:20250628
DTEND;TZID=Europe/Vienna;VALUE=DATE:20250630
DTSTAMP:20250701T165533Z
URL:https://www.voesfgraz.at/events/kulturreise-europaeische-kulturhauptst
 adt-2025-nova-gorica-gorizia/
SUMMARY:Kulturreise: Europäische Kulturhauptstadt 2025: Nova Gorica – Go
 rizia
DESCRIPTION:In diesem Jahr entdecken wir Nova Gorica\, die jüngste Stadt S
 loweniens\, die zusammen mit dem italienischen Gorizia die erste Europäis
 che Kulturhauptstadt sein wird\, die sich über zwei Länder erstreckt –
  ein symbolträchtiges Projekt\, das die kulturelle Vielfalt und das Zusam
 menwachsen Europas feiert. „Go! Borderless. Go 2025 Nova Gorica - Gorizi
 a“ ist das Motto der einzigartigen grenzüberschreitenden Kulturhauptsta
 dt inEuropa. Und in dieser Weise wandeln wir heuer auf den zeitgeschichtli
 chen Spuren in der Region Goriška\; einstmals „Küstenland“.
ATTACH;FMTTYPE=image/jpeg:https://www.voesfgraz.at/wp-content/uploads/2025
 /01/mirko-bijuklic-samostan-kostanjevica.jpg
CATEGORIES:2025 (DE),Ausflüge,veranstaltungen
END:VEVENT
BEGIN:VTIMEZONE
TZID:Europe/Vienna
X-LIC-LOCATION:Europe/Vienna
BEGIN:DAYLIGHT
DTSTART:20250330T030000
TZOFFSETFROM:+0100
TZOFFSETTO:+0200
TZNAME:CEST
END:DAYLIGHT
END:VTIMEZONE
END:VCALENDAR