BEGIN:VCALENDAR
VERSION:2.0
PRODID:-//wp-events-plugin.com//7.2.3.1//EN
TZID:Europe/Berlin
X-WR-TIMEZONE:Europe/Berlin
BEGIN:VEVENT
UID:245@voesfgraz.at
DTSTART;TZID=Europe/Vienna:20230920T190000
DTEND;TZID=Europe/Vienna:20230920T203000
DTSTAMP:20250307T092109Z
URL:https://www.voesfgraz.at/events/klubabend/
SUMMARY:Klubabend
DESCRIPTION:In den warmen Sommermonaten wollen wir uns einmal im Monat im G
 astgarten der Gaststätte Pirsch Stüberl\, Münzgrabenstraße 22\, 8010 G
 raz\, bei einem erfrischenden Getränk und angenehmen Plaudern treffen - w
 er Lust und Zeit hat und nicht gerade seinen verdienten Urlaub geniesst. 
CATEGORIES:2023 (DE),Stammtisch
LOCATION:Pirsch Stüberl\, Münzgrabenstraße 22\, Graz\, 8010\, Österreic
 h
GEO:47.064335;15.448579
X-APPLE-STRUCTURED-LOCATION;VALUE=URI;X-ADDRESS=Münzgrabenstraße 22\, Gra
 z\, 8010\, Österreich;X-APPLE-RADIUS=100;X-TITLE=Pirsch Stüberl:geo:47.0
 64335,15.448579
END:VEVENT
BEGIN:VTIMEZONE
TZID:Europe/Vienna
X-LIC-LOCATION:Europe/Vienna
BEGIN:DAYLIGHT
DTSTART:20230326T030000
TZOFFSETFROM:+0100
TZOFFSETTO:+0200
TZNAME:CEST
END:DAYLIGHT
END:VTIMEZONE
END:VCALENDAR