BEGIN:VCALENDAR
VERSION:2.0
PRODID:-//wp-events-plugin.com//7.2.3.1//EN
TZID:Europe/Berlin
X-WR-TIMEZONE:Europe/Berlin
BEGIN:VEVENT
UID:175@voesfgraz.at
DTSTART;TZID=Europe/Vienna:20231006T100000
DTEND;TZID=Europe/Vienna:20231222T110000
DTSTAMP:20231001T103854Z
URL:https://www.voesfgraz.at/events/feldenkraisstunde-mit-gertraud-koelbl-
 2023-03-17/
SUMMARY:Feldenkraisstunde mit Gertraud Kölbl
DESCRIPTION:Auch im Herbst findet in unseren Räumlichkeiten in der Brockma
 nngasse 7 in Graz freitags um 10 Uhr eine Feldenkraisstunde mit der Traine
 rin Gertraud Kölbl  (unser Mitglied) statt. Jede Stunde ist eine Einheit
  für sich. Es ist also nicht wichtig\, wann man beginnt bzw. ob man eine 
 Stunde auslässt.
CATEGORIES:Sport
LOCATION:Slowenisch in Graz\, Brockmanngasse 7\, Graz\, 8010\, Österreich
GEO:47.06068;15.439193
X-APPLE-STRUCTURED-LOCATION;VALUE=URI;X-ADDRESS=Brockmanngasse 7\, Graz\, 8
 010\, Österreich;X-APPLE-RADIUS=100;X-TITLE=Slowenisch in Graz:geo:47.060
 68,15.439193
END:VEVENT
BEGIN:VTIMEZONE
TZID:Europe/Vienna
X-LIC-LOCATION:Europe/Vienna
BEGIN:DAYLIGHT
DTSTART:20230326T030000
TZOFFSETFROM:+0100
TZOFFSETTO:+0200
TZNAME:CEST
END:DAYLIGHT
BEGIN:STANDARD
DTSTART:20231029T020000
TZOFFSETFROM:+0200
TZOFFSETTO:+0100
TZNAME:CET
END:STANDARD
END:VTIMEZONE
END:VCALENDAR