BEGIN:VCALENDAR
VERSION:2.0
PRODID:-//wp-events-plugin.com//7.2.3.1//EN
TZID:Europe/Berlin
X-WR-TIMEZONE:Europe/Berlin
BEGIN:VEVENT
UID:370@voesfgraz.at
DTSTART;TZID=Europe/Vienna;VALUE=DATE:20260522
DTEND;TZID=Europe/Vienna;VALUE=DATE:20260526
DTSTAMP:20260203T174603Z
URL:https://www.voesfgraz.at/events/binkostni-tecaj-slovenueoeine-v-dolenj
 skih-toplicah/
SUMMARY:Binkoštni tečaj slovenščine v Dolenjskih Toplicah
DESCRIPTION:Binkoštni tečaj slovenščine bo letos potekal v Dolenjskih T
 oplicah\, enem najstarejših termalnih kopališč v Evropi. To je idealna 
 lokacija za našo "slovensko" skupino\, odlično izhodišče za izlete v v
 se smeri in miren kraj za osvežitev znanja slovenščine.
ATTACH;FMTTYPE=image/jpeg:https://www.voesfgraz.at/wp-content/uploads/2026
 /01/IMG_4905-scaled-e1769421652342.jpeg
CATEGORIES:2026 (SI),Izlet in ekskurzija,prihodnje-prireditve
LOCATION:Dolenjske Toplice\, \, Slowenien
X-APPLE-STRUCTURED-LOCATION;VALUE=URI;X-ADDRESS=\, Slowenien;X-APPLE-RADIUS
 =100;X-TITLE=Dolenjske Toplice:geo:0,0
END:VEVENT
BEGIN:VTIMEZONE
TZID:Europe/Vienna
X-LIC-LOCATION:Europe/Vienna
BEGIN:DAYLIGHT
DTSTART:20260329T030000
TZOFFSETFROM:+0100
TZOFFSETTO:+0200
TZNAME:CEST
END:DAYLIGHT
END:VTIMEZONE
END:VCALENDAR