BEGIN:VCALENDAR
VERSION:2.0
PRODID:-//wp-events-plugin.com//7.2.3.1//EN
TZID:Europe/Berlin
X-WR-TIMEZONE:Europe/Berlin
BEGIN:VEVENT
UID:378@voesfgraz.at
DTSTART;TZID=Europe/Vienna;VALUE=DATE:20260604
DTEND;TZID=Europe/Vienna;VALUE=DATE:20260605
DTSTAMP:20260303T115614Z
URL:https://www.voesfgraz.at/events/avtobusni-izlet-ormoske-lagune/
SUMMARY:Avtobusni izlet: Ptičji raj v Ormoških lagunah in obisk vinske kl
 eti
DESCRIPTION:Na področju\, kjer je nekoč stala velika tovarna sladkorja\, 
 se danes razprostira naravno bogastvo:\nOrmoške lagune. Tu je pomembno gn
 ezdišče za okoli 30 vrst vodnih ptic\, ki ga\nvsako leto obišče na tis
 oče ptic selivk. Območje naseljujejo tudi vodni bivoli in želve.\nTo je
  impresiven primer tega\, kaj lahko naredi narava\, če jo podpiramo\nin p
 ustimo\, da se razvija po svoje. Za rezervat skrbi organizacija BirdLifeSl
 ovenia.\n
ATTACH;FMTTYPE=image/jpeg:https://www.voesfgraz.at/wp-content/uploads/2026
 /03/image-e1772537170757.png
CATEGORIES:2026 (SI),Izlet in ekskurzija
END:VEVENT
BEGIN:VTIMEZONE
TZID:Europe/Vienna
X-LIC-LOCATION:Europe/Vienna
BEGIN:DAYLIGHT
DTSTART:20260329T030000
TZOFFSETFROM:+0100
TZOFFSETTO:+0200
TZNAME:CEST
END:DAYLIGHT
END:VTIMEZONE
END:VCALENDAR