BEGIN:VCALENDAR
VERSION:2.0
PRODID:-//wp-events-plugin.com//7.2.3.1//EN
TZID:Europe/Berlin
X-WR-TIMEZONE:Europe/Berlin
BEGIN:VEVENT
UID:108@voesfgraz.at
DTSTART;TZID=Europe/Vienna:20230316T183000
DTEND;TZID=Europe/Vienna:20230316T183000
DTSTAMP:20230414T212359Z
URL:https://www.voesfgraz.at/events/anja-moric-das-pilichmandl/
SUMMARY:Anja Moric – Das Pilichmandl
DESCRIPTION:Eine Geschichte aus den Gottscheer Wäldern.\nBuchpräsentation
  mit Anja Moric (Zavod Putscherle) und Karin Almasy (Uni Graz\, ITAT).\nDo
 lmetscher: Sebastian Walcher.\n\nDie Gottscheer Wälder haben mit ihrer Sc
 hönheit und Rätselhaftigkeit häufig die menschliche Phantasie angeregt 
 und so ist die Erzählung über das „Siebenschläfer-Männchen“ (Gotts
 cheerisch: Pilihmandle) entstanden\, das in der Zeit der Siebenschläferja
 gd die Gottscheer Siebenschläferjäger neckt.\nDas von der Ethnologin Anj
 a Moric verfasste Kinderbuch griff die alte Erzähltradition der Gottschee
 r Deutschen über das „Siebenschläfer-Männchen“ auf und versuchte\, 
 diesen alten Stoff einem neuen jungen Lesepublikum näher zu bringen. Da d
 as Kulturerbe der Region Gottschee ein gemeinsames österreichisch-sloweni
 sches Erbe darstellt\, übersetzte ein Team aus Studierenden am ITAT im le
 tzten Sommersemester unter der Leitung von Karin Almasy das Kinderbuch ins
  Deutsche.\nDas Pavelhaus – Pavlova hiša ist Mitherausgeber der deutsch
 en Ausgabe.
CATEGORIES:Lesung und Gespräch
LOCATION:Slowenischer Lesesaal\, Kalchberggasse 2\, Graz\, 8010\, Österrei
 ch
GEO:47.068331;15.438519
X-APPLE-STRUCTURED-LOCATION;VALUE=URI;X-ADDRESS=Kalchberggasse 2\, Graz\, 8
 010\, Österreich;X-APPLE-RADIUS=100;X-TITLE=Slowenischer Lesesaal:geo:47.
 068331,15.438519
END:VEVENT
BEGIN:VTIMEZONE
TZID:Europe/Vienna
X-LIC-LOCATION:Europe/Vienna
BEGIN:STANDARD
DTSTART:20221030T020000
TZOFFSETFROM:+0200
TZOFFSETTO:+0100
TZNAME:CET
END:STANDARD
END:VTIMEZONE
END:VCALENDAR